BEGIN:VCALENDAR
PRODID:-//Microsoft Corporation//Outlook MIMEDIR//EN
VERSION:2.0
METHOD:PUBLISH
BEGIN:VEVENT
DTSTART:20260425T130000
DTEND:20260425T140000
DESCRIPTION:
LOCATION:Old Jail
SUMMARY:Planning Commission
CATEGORIES:MEETING
END:VEVENT
END:VCALENDAR
