BEGIN:VCALENDAR
PRODID:-//Microsoft Corporation//Outlook MIMEDIR//EN
VERSION:2.0
METHOD:PUBLISH
BEGIN:VEVENT
DTSTART:20260430T100000
DTEND:20260430T110000
DESCRIPTION:
LOCATION:Old Jail
SUMMARY:Nulu Review Overlay District Committee
CATEGORIES:MEETING
END:VEVENT
END:VCALENDAR
